BEGIN:VCALENDAR
VERSION:2.0
PRODID:-//CNS - De Vlinderboom - ECPv6.15.20//NONSGML v1.0//EN
CALSCALE:GREGORIAN
METHOD:PUBLISH
X-WR-CALNAME:CNS - De Vlinderboom
X-ORIGINAL-URL:https://www.devlinderboom.cnsede.nl
X-WR-CALDESC:Evenementen voor CNS - De Vlinderboom
REFRESH-INTERVAL;VALUE=DURATION:PT1H
X-Robots-Tag:noindex
X-PUBLISHED-TTL:PT1H
BEGIN:VTIMEZONE
TZID:Europe/Amsterdam
BEGIN:DAYLIGHT
TZOFFSETFROM:+0100
TZOFFSETTO:+0200
TZNAME:CEST
DTSTART:20230326T010000
END:DAYLIGHT
BEGIN:STANDARD
TZOFFSETFROM:+0200
TZOFFSETTO:+0100
TZNAME:CET
DTSTART:20231029T010000
END:STANDARD
BEGIN:DAYLIGHT
TZOFFSETFROM:+0100
TZOFFSETTO:+0200
TZNAME:CEST
DTSTART:20240331T010000
END:DAYLIGHT
BEGIN:STANDARD
TZOFFSETFROM:+0200
TZOFFSETTO:+0100
TZNAME:CET
DTSTART:20241027T010000
END:STANDARD
BEGIN:DAYLIGHT
TZOFFSETFROM:+0100
TZOFFSETTO:+0200
TZNAME:CEST
DTSTART:20250330T010000
END:DAYLIGHT
BEGIN:STANDARD
TZOFFSETFROM:+0200
TZOFFSETTO:+0100
TZNAME:CET
DTSTART:20251026T010000
END:STANDARD
END:VTIMEZONE
BEGIN:VEVENT
DTSTART;TZID=Europe/Amsterdam:20240401T080000
DTEND;TZID=Europe/Amsterdam:20240401T170000
DTSTAMP:20260421T181008
CREATED:20231023T122619Z
LAST-MODIFIED:20231023T122619Z
UID:1669-1711958400-1711990800@www.devlinderboom.cnsede.nl
SUMMARY:Tweede Paasdag
DESCRIPTION:
URL:https://www.devlinderboom.cnsede.nl/agenda/tweede-paasdag/
END:VEVENT
BEGIN:VEVENT
DTSTART;TZID=Europe/Amsterdam:20240402T080000
DTEND;TZID=Europe/Amsterdam:20240402T170000
DTSTAMP:20260421T181008
CREATED:20231023T122648Z
LAST-MODIFIED:20231023T122648Z
UID:1671-1712044800-1712077200@www.devlinderboom.cnsede.nl
SUMMARY:Studiedag
DESCRIPTION:
URL:https://www.devlinderboom.cnsede.nl/agenda/studiedag-6/
END:VEVENT
BEGIN:VEVENT
DTSTART;TZID=Europe/Amsterdam:20240418T080000
DTEND;TZID=Europe/Amsterdam:20240418T170000
DTSTAMP:20260421T181008
CREATED:20231023T125503Z
LAST-MODIFIED:20231023T125503Z
UID:1673-1713427200-1713459600@www.devlinderboom.cnsede.nl
SUMMARY:IPC-middag team
DESCRIPTION:
URL:https://www.devlinderboom.cnsede.nl/agenda/ipc-middag-team-3/
END:VEVENT
BEGIN:VEVENT
DTSTART;TZID=Europe/Amsterdam:20240426T080000
DTEND;TZID=Europe/Amsterdam:20240426T170000
DTSTAMP:20260421T181008
CREATED:20231023T125613Z
LAST-MODIFIED:20231023T125613Z
UID:1675-1714118400-1714150800@www.devlinderboom.cnsede.nl
SUMMARY:Koningsspelen
DESCRIPTION:
URL:https://www.devlinderboom.cnsede.nl/agenda/koningsspelen-2/
END:VEVENT
BEGIN:VEVENT
DTSTART;TZID=Europe/Amsterdam:20240429T080000
DTEND;TZID=Europe/Amsterdam:20240510T170000
DTSTAMP:20260421T181008
CREATED:20231023T125658Z
LAST-MODIFIED:20231023T125658Z
UID:1677-1714377600-1715360400@www.devlinderboom.cnsede.nl
SUMMARY:Meivakantie
DESCRIPTION:
URL:https://www.devlinderboom.cnsede.nl/agenda/meivakantie/
END:VEVENT
END:VCALENDAR