BEGIN:VCALENDAR
VERSION:2.0
PRODID:-//CNS - De Vlinderboom - ECPv6.15.20//NONSGML v1.0//EN
CALSCALE:GREGORIAN
METHOD:PUBLISH
X-WR-CALNAME:CNS - De Vlinderboom
X-ORIGINAL-URL:https://www.devlinderboom.cnsede.nl
X-WR-CALDESC:Evenementen voor CNS - De Vlinderboom
REFRESH-INTERVAL;VALUE=DURATION:PT1H
X-Robots-Tag:noindex
X-PUBLISHED-TTL:PT1H
BEGIN:VTIMEZONE
TZID:Europe/Amsterdam
BEGIN:DAYLIGHT
TZOFFSETFROM:+0100
TZOFFSETTO:+0200
TZNAME:CEST
DTSTART:20220327T010000
END:DAYLIGHT
BEGIN:STANDARD
TZOFFSETFROM:+0200
TZOFFSETTO:+0100
TZNAME:CET
DTSTART:20221030T010000
END:STANDARD
BEGIN:DAYLIGHT
TZOFFSETFROM:+0100
TZOFFSETTO:+0200
TZNAME:CEST
DTSTART:20230326T010000
END:DAYLIGHT
BEGIN:STANDARD
TZOFFSETFROM:+0200
TZOFFSETTO:+0100
TZNAME:CET
DTSTART:20231029T010000
END:STANDARD
BEGIN:DAYLIGHT
TZOFFSETFROM:+0100
TZOFFSETTO:+0200
TZNAME:CEST
DTSTART:20240331T010000
END:DAYLIGHT
BEGIN:STANDARD
TZOFFSETFROM:+0200
TZOFFSETTO:+0100
TZNAME:CET
DTSTART:20241027T010000
END:STANDARD
END:VTIMEZONE
BEGIN:VEVENT
DTSTART;TZID=Europe/Amsterdam:20230905T140000
DTEND;TZID=Europe/Amsterdam:20230906T180000
DTSTAMP:20260422T045739
CREATED:20231023T120832Z
LAST-MODIFIED:20231023T120832Z
UID:1605-1693922400-1694023200@www.devlinderboom.cnsede.nl
SUMMARY:Afstemmingsgesprekken
DESCRIPTION:
URL:https://www.devlinderboom.cnsede.nl/agenda/afstemmingsgesprekken/
END:VEVENT
BEGIN:VEVENT
DTSTART;TZID=Europe/Amsterdam:20230912T140000
DTEND;TZID=Europe/Amsterdam:20230912T180000
DTSTAMP:20260422T045739
CREATED:20231023T120909Z
LAST-MODIFIED:20231023T120909Z
UID:1607-1694527200-1694541600@www.devlinderboom.cnsede.nl
SUMMARY:Afstemmingsgesprekken
DESCRIPTION:
URL:https://www.devlinderboom.cnsede.nl/agenda/afstemmingsgesprekken-2/
END:VEVENT
BEGIN:VEVENT
DTSTART;TZID=Europe/Amsterdam:20230914T140000
DTEND;TZID=Europe/Amsterdam:20230914T180000
DTSTAMP:20260422T045739
CREATED:20231023T120959Z
LAST-MODIFIED:20231023T120959Z
UID:1609-1694700000-1694714400@www.devlinderboom.cnsede.nl
SUMMARY:Afstemmingsgesprekken
DESCRIPTION:
URL:https://www.devlinderboom.cnsede.nl/agenda/afstemmingsgesprekken-3/
END:VEVENT
BEGIN:VEVENT
DTSTART;TZID=Europe/Amsterdam:20230922T080000
DTEND;TZID=Europe/Amsterdam:20230922T170000
DTSTAMP:20260422T045739
CREATED:20231023T121027Z
LAST-MODIFIED:20231023T121027Z
UID:1611-1695369600-1695402000@www.devlinderboom.cnsede.nl
SUMMARY:Maandviering
DESCRIPTION:
URL:https://www.devlinderboom.cnsede.nl/agenda/maandviering/
END:VEVENT
END:VCALENDAR