BEGIN:VCALENDAR
VERSION:2.0
PRODID:-//CNS - De Vlinderboom - ECPv6.15.20//NONSGML v1.0//EN
CALSCALE:GREGORIAN
METHOD:PUBLISH
X-WR-CALNAME:CNS - De Vlinderboom
X-ORIGINAL-URL:https://www.devlinderboom.cnsede.nl
X-WR-CALDESC:Evenementen voor CNS - De Vlinderboom
REFRESH-INTERVAL;VALUE=DURATION:PT1H
X-Robots-Tag:noindex
X-PUBLISHED-TTL:PT1H
BEGIN:VTIMEZONE
TZID:Europe/Amsterdam
BEGIN:DAYLIGHT
TZOFFSETFROM:+0100
TZOFFSETTO:+0200
TZNAME:CEST
DTSTART:20220327T010000
END:DAYLIGHT
BEGIN:STANDARD
TZOFFSETFROM:+0200
TZOFFSETTO:+0100
TZNAME:CET
DTSTART:20221030T010000
END:STANDARD
BEGIN:DAYLIGHT
TZOFFSETFROM:+0100
TZOFFSETTO:+0200
TZNAME:CEST
DTSTART:20230326T010000
END:DAYLIGHT
BEGIN:STANDARD
TZOFFSETFROM:+0200
TZOFFSETTO:+0100
TZNAME:CET
DTSTART:20231029T010000
END:STANDARD
BEGIN:DAYLIGHT
TZOFFSETFROM:+0100
TZOFFSETTO:+0200
TZNAME:CEST
DTSTART:20240331T010000
END:DAYLIGHT
BEGIN:STANDARD
TZOFFSETFROM:+0200
TZOFFSETTO:+0100
TZNAME:CET
DTSTART:20241027T010000
END:STANDARD
END:VTIMEZONE
BEGIN:VEVENT
DTSTART;TZID=Europe/Amsterdam:20230821T080000
DTEND;TZID=Europe/Amsterdam:20230821T170000
DTSTAMP:20260422T064008
CREATED:20231023T120607Z
LAST-MODIFIED:20231023T120614Z
UID:1598-1692604800-1692637200@www.devlinderboom.cnsede.nl
SUMMARY:Eerste schooldag
DESCRIPTION:
URL:https://www.devlinderboom.cnsede.nl/agenda/eerst-schooldag/
END:VEVENT
BEGIN:VEVENT
DTSTART;TZID=Europe/Amsterdam:20230823T120000
DTEND;TZID=Europe/Amsterdam:20230823T170000
DTSTAMP:20260422T064008
CREATED:20231023T120655Z
LAST-MODIFIED:20231023T120655Z
UID:1601-1692792000-1692810000@www.devlinderboom.cnsede.nl
SUMMARY:IPC-middag team
DESCRIPTION:
URL:https://www.devlinderboom.cnsede.nl/agenda/ipc-middag-team/
END:VEVENT
BEGIN:VEVENT
DTSTART;TZID=Europe/Amsterdam:20230831T190000
DTEND;TZID=Europe/Amsterdam:20230831T190000
DTSTAMP:20260422T064008
CREATED:20231023T120741Z
LAST-MODIFIED:20231023T120741Z
UID:1603-1693508400-1693508400@www.devlinderboom.cnsede.nl
SUMMARY:Back to school party
DESCRIPTION:
URL:https://www.devlinderboom.cnsede.nl/agenda/back-to-school-party/
END:VEVENT
END:VCALENDAR