BEGIN:VCALENDAR
VERSION:2.0
PRODID:-//CNS - De Vlinderboom - ECPv6.15.20//NONSGML v1.0//EN
CALSCALE:GREGORIAN
METHOD:PUBLISH
X-WR-CALNAME:CNS - De Vlinderboom
X-ORIGINAL-URL:https://www.devlinderboom.cnsede.nl
X-WR-CALDESC:Evenementen voor CNS - De Vlinderboom
REFRESH-INTERVAL;VALUE=DURATION:PT1H
X-Robots-Tag:noindex
X-PUBLISHED-TTL:PT1H
BEGIN:VTIMEZONE
TZID:Europe/Amsterdam
BEGIN:DAYLIGHT
TZOFFSETFROM:+0100
TZOFFSETTO:+0200
TZNAME:CEST
DTSTART:20220327T010000
END:DAYLIGHT
BEGIN:STANDARD
TZOFFSETFROM:+0200
TZOFFSETTO:+0100
TZNAME:CET
DTSTART:20221030T010000
END:STANDARD
BEGIN:DAYLIGHT
TZOFFSETFROM:+0100
TZOFFSETTO:+0200
TZNAME:CEST
DTSTART:20230326T010000
END:DAYLIGHT
BEGIN:STANDARD
TZOFFSETFROM:+0200
TZOFFSETTO:+0100
TZNAME:CET
DTSTART:20231029T010000
END:STANDARD
BEGIN:DAYLIGHT
TZOFFSETFROM:+0100
TZOFFSETTO:+0200
TZNAME:CEST
DTSTART:20240331T010000
END:DAYLIGHT
BEGIN:STANDARD
TZOFFSETFROM:+0200
TZOFFSETTO:+0100
TZNAME:CET
DTSTART:20241027T010000
END:STANDARD
END:VTIMEZONE
BEGIN:VEVENT
DTSTART;VALUE=DATE:20230406
DTEND;VALUE=DATE:20230407
DTSTAMP:20260422T132541
CREATED:20230112T140024Z
LAST-MODIFIED:20230112T140024Z
UID:1465-1680739200-1680825599@www.devlinderboom.cnsede.nl
SUMMARY:Paasviering
DESCRIPTION:
URL:https://www.devlinderboom.cnsede.nl/agenda/paasviering/
END:VEVENT
BEGIN:VEVENT
DTSTART;VALUE=DATE:20230411
DTEND;VALUE=DATE:20230412
DTSTAMP:20260422T132541
CREATED:20230112T135536Z
LAST-MODIFIED:20230112T135536Z
UID:1447-1681171200-1681257599@www.devlinderboom.cnsede.nl
SUMMARY:Studiedag
DESCRIPTION:
URL:https://www.devlinderboom.cnsede.nl/agenda/studiedag/
END:VEVENT
BEGIN:VEVENT
DTSTART;VALUE=DATE:20230419
DTEND;VALUE=DATE:20230420
DTSTAMP:20260422T132541
CREATED:20230403T102616Z
LAST-MODIFIED:20230403T102804Z
UID:1567-1681862400-1681948799@www.devlinderboom.cnsede.nl
SUMMARY:Schoolsport olympiade
DESCRIPTION:
URL:https://www.devlinderboom.cnsede.nl/agenda/schoolsport-olympiade/
END:VEVENT
BEGIN:VEVENT
DTSTART;VALUE=DATE:20230420
DTEND;VALUE=DATE:20230421
DTSTAMP:20260422T132541
CREATED:20230403T102723Z
LAST-MODIFIED:20230403T102723Z
UID:1571-1681948800-1682035199@www.devlinderboom.cnsede.nl
SUMMARY:Schoolsport junior olympiade
DESCRIPTION:
URL:https://www.devlinderboom.cnsede.nl/agenda/schoolsport-junior-olympiade/
END:VEVENT
BEGIN:VEVENT
DTSTART;VALUE=DATE:20230421
DTEND;VALUE=DATE:20230422
DTSTAMP:20260422T132541
CREATED:20230112T135601Z
LAST-MODIFIED:20230112T135601Z
UID:1449-1682035200-1682121599@www.devlinderboom.cnsede.nl
SUMMARY:Koningsspelen
DESCRIPTION:
URL:https://www.devlinderboom.cnsede.nl/agenda/koningsspelen/
END:VEVENT
END:VCALENDAR